BEGIN:VCALENDAR
VERSION:2.0
PRODID:spatie/icalendar-generator
DESCRIPTION:Veranstaltungen von Bürgerschützenverein Bruckhausen 1730 e. 
 V. 
X-WR-CALDESC:Veranstaltungen von Bürgerschützenverein Bruckhausen 1730 e.
  V. 
REFRESH-INTERVAL;VALUE=DURATION:PT1440M
X-PUBLISHED-TTL:PT1440M
BEGIN:VTIMEZONE
TZID:Etc/GMT+0
BEGIN:STANDARD
DTSTART:20220824T183000Z
TZOFFSETFROM:+0000
TZOFFSETTO:+0000
END:STANDARD
END:VTIMEZONE
BEGIN:VTIMEZONE
TZID:UTC
BEGIN:STANDARD
DTSTART:20250724T050820Z
TZOFFSETFROM:+0000
TZOFFSETTO:+0000
END:STANDARD
END:VTIMEZONE
BEGIN:VEVENT
UID:7-7
DTSTAMP:20260420T050820Z
SUMMARY:Besuch des Schützenfests des JSV Hünxe
LOCATION:
ORGANIZER;CN=BSV:MAILTO:webmaster@bsv-bruckhausen.de
DTSTART;TZID=Etc/GMT+0:20230521T183000
DTEND;TZID=Etc/GMT+0:20230521T233000
X-ALT-DESC;FMTTYPE=TEXT/HTML:
CATEGORIES:Allgemein
URL;VALUE=URI:https://www.bsv-bruckhausen.de/mc-events/besuch-des-schuetzen
 fests-des-jsv-huenxe
METHOD:PUBLISH
END:VEVENT
END:VCALENDAR