BEGIN:VCALENDAR
VERSION:2.0
PRODID:spatie/icalendar-generator
DESCRIPTION:Veranstaltungen von Bürgerschützenverein Bruckhausen 1730 e. 
 V. 
X-WR-CALDESC:Veranstaltungen von Bürgerschützenverein Bruckhausen 1730 e.
  V. 
REFRESH-INTERVAL;VALUE=DURATION:PT1440M
X-PUBLISHED-TTL:PT1440M
BEGIN:VTIMEZONE
TZID:Etc/GMT+0
BEGIN:STANDARD
DTSTART:20221213T130000Z
TZOFFSETFROM:+0000
TZOFFSETTO:+0000
END:STANDARD
END:VTIMEZONE
BEGIN:VTIMEZONE
TZID:UTC
BEGIN:STANDARD
DTSTART:20250723T120630Z
TZOFFSETFROM:+0000
TZOFFSETTO:+0000
END:STANDARD
END:VTIMEZONE
BEGIN:VEVENT
UID:17-17
DTSTAMP:20260419T120630Z
SUMMARY:Gemeindepokalschießen
LOCATION:
ORGANIZER;CN=BSV:MAILTO:webmaster@bsv-bruckhausen.de
DTSTART;TZID=Etc/GMT+0:20230909T130000
DTEND;TZID=Etc/GMT+0:20230909T190000
X-ALT-DESC;FMTTYPE=TEXT/HTML:
CATEGORIES:Allgemein
URL;VALUE=URI:https://www.bsv-bruckhausen.de/mc-events/gemeindepokalschiess
 en
METHOD:PUBLISH
END:VEVENT
END:VCALENDAR