BEGIN:VCALENDAR
VERSION:2.0
PRODID:spatie/icalendar-generator
DESCRIPTION:Veranstaltungen von Bürgerschützenverein Bruckhausen 1730 e. 
 V. 
X-WR-CALDESC:Veranstaltungen von Bürgerschützenverein Bruckhausen 1730 e.
  V. 
REFRESH-INTERVAL;VALUE=DURATION:PT1440M
X-PUBLISHED-TTL:PT1440M
BEGIN:VTIMEZONE
TZID:Etc/GMT+0
BEGIN:STANDARD
DTSTART:20221107T190000Z
TZOFFSETFROM:+0000
TZOFFSETTO:+0000
END:STANDARD
END:VTIMEZONE
BEGIN:VTIMEZONE
TZID:UTC
BEGIN:STANDARD
DTSTART:20250723T170044Z
TZOFFSETFROM:+0000
TZOFFSETTO:+0000
END:STANDARD
END:VTIMEZONE
BEGIN:VEVENT
UID:14-14
DTSTAMP:20260419T170044Z
SUMMARY:Freundschaftswettkampf BSV Germania Voerde
LOCATION:
ORGANIZER;CN=BSV:MAILTO:webmaster@bsv-bruckhausen.de
DTSTART;TZID=Etc/GMT+0:20230804T190000
DTEND;TZID=Etc/GMT+0:20230804T233000
X-ALT-DESC;FMTTYPE=TEXT/HTML:
CATEGORIES:Allgemein
URL;VALUE=URI:https://www.bsv-bruckhausen.de/mc-events/freundschaftswettkam
 pf-bsv-germania-voerde
METHOD:PUBLISH
END:VEVENT
END:VCALENDAR