BEGIN:VCALENDAR
VERSION:2.0
PRODID:spatie/icalendar-generator
DESCRIPTION:Veranstaltungen von Bürgerschützenverein Bruckhausen 1730 e. 
 V. 
X-WR-CALDESC:Veranstaltungen von Bürgerschützenverein Bruckhausen 1730 e.
  V. 
REFRESH-INTERVAL;VALUE=DURATION:PT1440M
X-PUBLISHED-TTL:PT1440M
BEGIN:VTIMEZONE
TZID:Etc/GMT+0
BEGIN:STANDARD
DTSTART:20221102T180000Z
TZOFFSETFROM:+0000
TZOFFSETTO:+0000
END:STANDARD
END:VTIMEZONE
BEGIN:VTIMEZONE
TZID:UTC
BEGIN:STANDARD
DTSTART:20250723T184558Z
TZOFFSETFROM:+0000
TZOFFSETTO:+0000
END:STANDARD
END:VTIMEZONE
BEGIN:VEVENT
UID:13-13
DTSTAMP:20260419T184558Z
SUMMARY:Besuch des Schützenfests BSV Hünxe
LOCATION:
ORGANIZER;CN=BSV:MAILTO:webmaster@bsv-bruckhausen.de
DTSTART;TZID=Etc/GMT+0:20230730T180000
DTEND;TZID=Etc/GMT+0:20230730T233000
X-ALT-DESC;FMTTYPE=TEXT/HTML:
CATEGORIES:Allgemein
URL;VALUE=URI:https://www.bsv-bruckhausen.de/mc-events/besuch-des-schuetzen
 fests-bsv-huenxe
METHOD:PUBLISH
END:VEVENT
END:VCALENDAR