BEGIN:VCALENDAR
VERSION:2.0
PRODID:spatie/icalendar-generator
DESCRIPTION:Veranstaltungen von Bürgerschützenverein Bruckhausen 1730 e. 
 V. 
X-WR-CALDESC:Veranstaltungen von Bürgerschützenverein Bruckhausen 1730 e.
  V. 
REFRESH-INTERVAL;VALUE=DURATION:PT1440M
X-PUBLISHED-TTL:PT1440M
BEGIN:VTIMEZONE
TZID:Etc/GMT+0
BEGIN:STANDARD
DTSTART:20220926T000000Z
TZOFFSETFROM:+0000
TZOFFSETTO:+0000
END:STANDARD
END:VTIMEZONE
BEGIN:VTIMEZONE
TZID:UTC
BEGIN:STANDARD
DTSTART:20250723T222303Z
TZOFFSETFROM:+0000
TZOFFSETTO:+0000
END:STANDARD
END:VTIMEZONE
BEGIN:VEVENT
UID:11-11
DTSTAMP:20260419T222303Z
SUMMARY:Schützenfest Bruckhausen 2023 (Teilnahme an allen Tagen Pflicht!)
LOCATION:
ORGANIZER;CN=BSV:MAILTO:webmaster@bsv-bruckhausen.de
DTSTART;TZID=Etc/GMT+0;VALUE=DATE:20230623
DTEND;TZID=Etc/GMT+0;VALUE=DATE:20230626
X-ALT-DESC;FMTTYPE=TEXT/HTML:
CATEGORIES:Allgemein
URL;VALUE=URI:https://www.bsv-bruckhausen.de/mc-events/schuetzenfest-bruckh
 ausen-2023-teilnahme-an-allen-tagen-pflicht
METHOD:PUBLISH
END:VEVENT
END:VCALENDAR